BEGIN:VCALENDAR
VERSION:2.0
PRODID:-//eventon.com NONSGML v1.0//EN
BEGIN:VEVENT
UID:69e9d946a330d
DTSTAMP:20260423T083310
DTSTART:20220413T000000Z
DTEND:20220413T235900Z
LOCATION:
SUMMARY:Student/Parent/Teacher Conference in the evening
DESCRIPTION: Student/Parent/Teacher Conference in the evening
END:VEVENT
END:VCALENDAR