BEGIN:VCALENDAR
VERSION:2.0
PRODID:-//eventon.com NONSGML v1.0//EN
BEGIN:VEVENT
UID:69e905e832cb9
DTSTAMP:20260422T173120
DTSTART:20221118T000000Z
DTEND:20221118T235900Z
LOCATION:
SUMMARY:Report Cards issued for Middle School
DESCRIPTION: Report Cards issued for Middle School
END:VEVENT
END:VCALENDAR