BEGIN:VCALENDAR
VERSION:2.0
PRODID:-//eventon.com NONSGML v1.0//EN
BEGIN:VEVENT
UID:69e8add865b7e
DTSTAMP:20260422T111536
DTSTART:20221216T000000Z
DTEND:20221216T235900Z
LOCATION:
SUMMARY:Last Day of classes before Christmas Break
DESCRIPTION: Last Day of classes before Christmas Break
END:VEVENT
END:VCALENDAR