BEGIN:VCALENDAR
VERSION:2.0
PRODID:-//eventon.com NONSGML v1.0//EN
BEGIN:VEVENT
UID:69e89b012bf2b
DTSTAMP:20260422T095513
DTSTART:20230103T000000Z
DTEND:20230103T235900Z
LOCATION:
SUMMARY:Classes Resume
DESCRIPTION: Classes Resume
END:VEVENT
END:VCALENDAR