BEGIN:VCALENDAR
VERSION:2.0
PRODID:-//eventon.com NONSGML v1.0//EN
BEGIN:VEVENT
UID:69e9d73fa5962
DTSTAMP:20260423T082431
DTSTART:20230519T000000Z
DTEND:20230519T235900Z
LOCATION:
SUMMARY:Professional Development Day (no classes)
DESCRIPTION: Professional Development Day (no classes)
END:VEVENT
END:VCALENDAR