BEGIN:VCALENDAR
VERSION:2.0
PRODID:-//eventon.com NONSGML v1.0//EN
BEGIN:VEVENT
UID:69e79fc0115c6
DTSTAMP:20260421T160312
DTSTART:20231117T000000Z
DTEND:20231117T235900Z
LOCATION:
SUMMARY:Progress Reports - Middle School
DESCRIPTION: Progress Reports - Middle School
END:VEVENT
END:VCALENDAR