BEGIN:VCALENDAR
VERSION:2.0
PRODID:-//eventon.com NONSGML v1.0//EN
BEGIN:VEVENT
UID:69e7cb5402691
DTSTAMP:20260421T190908
DTSTART:20231208T000000Z
DTEND:20231208T235900Z
LOCATION:
SUMMARY:Administration Day (K-5) and Pro D Day (6-8) - No classes
DESCRIPTION: Administration Day (K-5) and Pro D Day (6-8) - No classes
END:VEVENT
END:VCALENDAR