BEGIN:VCALENDAR
VERSION:2.0
PRODID:-//eventon.com NONSGML v1.0//EN
BEGIN:VEVENT
UID:69e820058b91f
DTSTAMP:20260422T011029
DTSTART:20240109T000000Z
DTEND:20240109T235900Z
LOCATION:
SUMMARY:Classes resume
DESCRIPTION: Classes resume
END:VEVENT
END:VCALENDAR