BEGIN:VCALENDAR
VERSION:2.0
PRODID:-//eventon.com NONSGML v1.0//EN
BEGIN:VEVENT
UID:69eb3abc8eab7
DTSTAMP:20260424T094116
DTSTART:20240209T000000Z
DTEND:20240209T235900Z
LOCATION:
SUMMARY:Term Reports (Middle School 6-8)
DESCRIPTION: Term Reports (Middle School 6-8)
END:VEVENT
END:VCALENDAR