BEGIN:VCALENDAR
VERSION:2.0
PRODID:-//eventon.com NONSGML v1.0//EN
BEGIN:VEVENT
UID:69e7469d986cd
DTSTAMP:20260421T094253
DTSTART:20240517T000000Z
DTEND:20240517T235900Z
LOCATION:
SUMMARY:Administration day - no classes
DESCRIPTION: Administration day - no classes
END:VEVENT
END:VCALENDAR