BEGIN:VCALENDAR
VERSION:2.0
PRODID:-//eventon.com NONSGML v1.0//EN
BEGIN:VEVENT
UID:69e75ad3b68d4
DTSTAMP:20260421T110907
DTSTART:20240520T000000Z
DTEND:20240520T235900Z
LOCATION:
SUMMARY:Victoria day - no classes
DESCRIPTION: Victoria day - no classes
END:VEVENT
END:VCALENDAR