BEGIN:VCALENDAR
VERSION:2.0
PRODID:-//eventon.com NONSGML v1.0//EN
BEGIN:VEVENT
UID:69e772a62d0ee
DTSTAMP:20260421T125046
DTSTART:20240524T000000Z
DTEND:20240524T235900Z
LOCATION:
SUMMARY:Sports Day
DESCRIPTION: Sports Day
END:VEVENT
END:VCALENDAR