BEGIN:VCALENDAR
VERSION:2.0
PRODID:-//eventon.com NONSGML v1.0//EN
BEGIN:VEVENT
UID:69eb152fb3740
DTSTAMP:20260424T070103
DTSTART:20250627T000000Z
DTEND:20250627T235900Z
LOCATION:
SUMMARY:TERM REPORTS ISSUED (K-8)
DESCRIPTION: TERM REPORTS ISSUED (K-8)
END:VEVENT
END:VCALENDAR