BEGIN:VCALENDAR
VERSION:2.0
PRODID:-//eventon.com NONSGML v1.0//EN
BEGIN:VEVENT
UID:69eb02b28d81f
DTSTAMP:20260424T054210
DTSTART:20241023T083000Z
DTEND:20241023T113000Z
LOCATION:
SUMMARY:Picture Day
DESCRIPTION: Picture Day
END:VEVENT
END:VCALENDAR