BEGIN:VCALENDAR
VERSION:2.0
PRODID:-//eventon.com NONSGML v1.0//EN
BEGIN:VEVENT
UID:69eae24acc8b3
DTSTAMP:20260424T032354
DTSTART:20250901T000000Z
DTEND:20250901T235900Z
LOCATION:
SUMMARY:Labour Day
DESCRIPTION: Labour Day
END:VEVENT
END:VCALENDAR