BEGIN:VCALENDAR
VERSION:2.0
PRODID:-//eventon.com NONSGML v1.0//EN
BEGIN:VEVENT
UID:69eaa9101bff9
DTSTAMP:20260423T231944
DTSTART:20250929T000000Z
DTEND:20250929T235900Z
LOCATION:
SUMMARY:Professional Development Day (no classes)
DESCRIPTION: Professional Development Day (no classes)
END:VEVENT
END:VCALENDAR