BEGIN:VCALENDAR
VERSION:2.0
PRODID:-//eventon.com NONSGML v1.0//EN
BEGIN:VEVENT
UID:69e750e951f06
DTSTAMP:20260421T102649
DTSTART:20260105T000000Z
DTEND:20260105T235900Z
LOCATION:
SUMMARY:Classes resume
DESCRIPTION: Classes resume
END:VEVENT
END:VCALENDAR