BEGIN:VCALENDAR
VERSION:2.0
PRODID:-//eventon.com NONSGML v1.0//EN
BEGIN:VEVENT
UID:69e9d6cdd9434
DTSTAMP:20260423T082237
DTSTART:20260130T000000Z
DTEND:20260130T235900Z
LOCATION:
SUMMARY:Professional Development Day / Administration Day (no classes)
DESCRIPTION: Professional Development Day / Administration Day (no classes)
END:VEVENT
END:VCALENDAR