BEGIN:VCALENDAR
VERSION:2.0
PRODID:-//eventon.com NONSGML v1.0//EN
BEGIN:VEVENT
UID:69ecaed5637fc
DTSTAMP:20260425T120853
DTSTART:20260403T000000Z
DTEND:20260403T235900Z
LOCATION:
SUMMARY:Good Friday (no classes)
DESCRIPTION: Good Friday (no classes)
END:VEVENT
END:VCALENDAR