BEGIN:VCALENDAR
VERSION:2.0
PRODID:-//eventon.com NONSGML v1.0//EN
BEGIN:VEVENT
UID:69ecb008b5f89
DTSTAMP:20260425T121400
DTSTART:20260406T000000Z
DTEND:20260406T235900Z
LOCATION:
SUMMARY:Easter Monday (no classes)
DESCRIPTION: Easter Monday (no classes)
END:VEVENT
END:VCALENDAR